BEGIN:VCALENDAR
VERSION:2.0
PRODID:-//DT Nouspelt - ECPv6.15.20//NONSGML v1.0//EN
CALSCALE:GREGORIAN
METHOD:PUBLISH
X-WR-CALNAME:DT Nouspelt
X-ORIGINAL-URL:https://www.dtnouspelt.lu
X-WR-CALDESC:Veranstaltungen für DT Nouspelt
REFRESH-INTERVAL;VALUE=DURATION:PT1H
X-Robots-Tag:noindex
X-PUBLISHED-TTL:PT1H
BEGIN:VTIMEZONE
TZID:Europe/Luxembourg
BEGIN:DAYLIGHT
TZOFFSETFROM:+0100
TZOFFSETTO:+0200
TZNAME:CEST
DTSTART:20250330T010000
END:DAYLIGHT
BEGIN:STANDARD
TZOFFSETFROM:+0200
TZOFFSETTO:+0100
TZNAME:CET
DTSTART:20251026T010000
END:STANDARD
BEGIN:DAYLIGHT
TZOFFSETFROM:+0100
TZOFFSETTO:+0200
TZNAME:CEST
DTSTART:20260329T010000
END:DAYLIGHT
BEGIN:STANDARD
TZOFFSETFROM:+0200
TZOFFSETTO:+0100
TZNAME:CET
DTSTART:20261025T010000
END:STANDARD
BEGIN:DAYLIGHT
TZOFFSETFROM:+0100
TZOFFSETTO:+0200
TZNAME:CEST
DTSTART:20270328T010000
END:DAYLIGHT
BEGIN:STANDARD
TZOFFSETFROM:+0200
TZOFFSETTO:+0100
TZNAME:CET
DTSTART:20271031T010000
END:STANDARD
END:VTIMEZONE
BEGIN:VEVENT
DTSTART;VALUE=DATE:20260110
DTEND;VALUE=DATE:20260111
DTSTAMP:20260425T041747
CREATED:20260107T145759Z
LAST-MODIFIED:20260107T145759Z
UID:2680-1768003200-1768089599@www.dtnouspelt.lu
SUMMARY:Iessen 10 Match
DESCRIPTION:Prince Orloff
URL:https://www.dtnouspelt.lu/event/iessen-10-match/
END:VEVENT
BEGIN:VEVENT
DTSTART;VALUE=DATE:20260124
DTEND;VALUE=DATE:20260125
DTSTAMP:20260425T041747
CREATED:20260121T154401Z
LAST-MODIFIED:20260121T154401Z
UID:2684-1769212800-1769299199@www.dtnouspelt.lu
SUMMARY:Iessen 11 Match
DESCRIPTION:Bouchée
URL:https://www.dtnouspelt.lu/event/iessen-11-match/
END:VEVENT
BEGIN:VEVENT
DTSTART;VALUE=DATE:20260131
DTEND;VALUE=DATE:20260201
DTSTAMP:20260425T041747
CREATED:20260129T103126Z
LAST-MODIFIED:20260129T103218Z
UID:2689-1769817600-1769903999@www.dtnouspelt.lu
SUMMARY:Iessen 12. Match
DESCRIPTION:Assiette Pita Dinde
URL:https://www.dtnouspelt.lu/event/iessen-12-match/
END:VEVENT
END:VCALENDAR